BEGIN:VCALENDAR
VERSION:2.0
PRODID:-//Drew Petersen - Pianist - ECPv6.15.20//NONSGML v1.0//EN
CALSCALE:GREGORIAN
METHOD:PUBLISH
X-WR-CALNAME:Drew Petersen - Pianist
X-ORIGINAL-URL:https://drewpetersenpiano.com
X-WR-CALDESC:Events for Drew Petersen - Pianist
REFRESH-INTERVAL;VALUE=DURATION:PT1H
X-Robots-Tag:noindex
X-PUBLISHED-TTL:PT1H
BEGIN:VTIMEZONE
TZID:America/New_York
BEGIN:DAYLIGHT
TZOFFSETFROM:-0500
TZOFFSETTO:-0400
TZNAME:EDT
DTSTART:20180311T070000
END:DAYLIGHT
BEGIN:STANDARD
TZOFFSETFROM:-0400
TZOFFSETTO:-0500
TZNAME:EST
DTSTART:20181104T060000
END:STANDARD
BEGIN:DAYLIGHT
TZOFFSETFROM:-0500
TZOFFSETTO:-0400
TZNAME:EDT
DTSTART:20190310T070000
END:DAYLIGHT
BEGIN:STANDARD
TZOFFSETFROM:-0400
TZOFFSETTO:-0500
TZNAME:EST
DTSTART:20191103T060000
END:STANDARD
BEGIN:DAYLIGHT
TZOFFSETFROM:-0500
TZOFFSETTO:-0400
TZNAME:EDT
DTSTART:20200308T070000
END:DAYLIGHT
BEGIN:STANDARD
TZOFFSETFROM:-0400
TZOFFSETTO:-0500
TZNAME:EST
DTSTART:20201101T060000
END:STANDARD
BEGIN:DAYLIGHT
TZOFFSETFROM:-0500
TZOFFSETTO:-0400
TZNAME:EDT
DTSTART:20210314T070000
END:DAYLIGHT
BEGIN:STANDARD
TZOFFSETFROM:-0400
TZOFFSETTO:-0500
TZNAME:EST
DTSTART:20211107T060000
END:STANDARD
END:VTIMEZONE
BEGIN:VTIMEZONE
TZID:America/Chicago
BEGIN:DAYLIGHT
TZOFFSETFROM:-0600
TZOFFSETTO:-0500
TZNAME:CDT
DTSTART:20180311T080000
END:DAYLIGHT
BEGIN:STANDARD
TZOFFSETFROM:-0500
TZOFFSETTO:-0600
TZNAME:CST
DTSTART:20181104T070000
END:STANDARD
BEGIN:DAYLIGHT
TZOFFSETFROM:-0600
TZOFFSETTO:-0500
TZNAME:CDT
DTSTART:20190310T080000
END:DAYLIGHT
BEGIN:STANDARD
TZOFFSETFROM:-0500
TZOFFSETTO:-0600
TZNAME:CST
DTSTART:20191103T070000
END:STANDARD
BEGIN:DAYLIGHT
TZOFFSETFROM:-0600
TZOFFSETTO:-0500
TZNAME:CDT
DTSTART:20200308T080000
END:DAYLIGHT
BEGIN:STANDARD
TZOFFSETFROM:-0500
TZOFFSETTO:-0600
TZNAME:CST
DTSTART:20201101T070000
END:STANDARD
BEGIN:DAYLIGHT
TZOFFSETFROM:-0600
TZOFFSETTO:-0500
TZNAME:CDT
DTSTART:20210314T080000
END:DAYLIGHT
BEGIN:STANDARD
TZOFFSETFROM:-0500
TZOFFSETTO:-0600
TZNAME:CST
DTSTART:20211107T070000
END:STANDARD
END:VTIMEZONE
BEGIN:VEVENT
DTSTART;TZID=America/New_York:20201207T140000
DTEND;TZID=America/New_York:20201207T140000
DTSTAMP:20260421T030120
CREATED:20250723T043101Z
LAST-MODIFIED:20250723T043101Z
UID:903-1607349600-1607349600@drewpetersenpiano.com
SUMMARY:Jupiter Symphony Chamber Players
DESCRIPTION:Program\nString Quartet on theme B-LA-F – movements by Nikolai Rimsky-Korsakov\, Anatoly Liadov\, Alexander Borodin\, Alexander Glazunov \nHEXAMERON VARIATIONS for solo piano – arr. by Franz Liszt with submissions by Sigismond Thalberg\, Franz Liszt\, Johann-Peter Pixis\, Henri Herz\, Carl Czerny\, Frederic Chopin \nFAE SONATA for violin and piano – movements by Robert Schumann\, Johannes Brahms\, Albert Dietrich \n—————— \nDrew Petersen\, pianox\nMark Kaplan\, violin\nother strings TBD
URL:https://drewpetersenpiano.com/event/jupiter-symphony-chamber-players-18/
LOCATION:Good Shepherd Church\, 152 W 66 St\, New York\, NY\, United States
END:VEVENT
BEGIN:VEVENT
DTSTART;TZID=America/New_York:20201019T193000
DTEND;TZID=America/New_York:20201019T193000
DTSTAMP:20260421T030120
CREATED:20250723T042841Z
LAST-MODIFIED:20250723T042841Z
UID:901-1603135800-1603135800@drewpetersenpiano.com
SUMMARY:Jupiter Symphony Chamber Players
DESCRIPTION:Program\nRandall Thompson – Suite for Oboe/Clarinet/Viola\nMarion Bauer – Concertino\, Op. 32b (oboe/clarinet/string quartet)\nCharles Griffes – 2 Sketches on Indian Themes (string quartet)\nHoward Hanson – Concerto da Camera in C minor\, Op. 7 (piano/string quartet)\nCharles Wakefield Cadman – Piano Trio in D major\, Op. 56 \n—————— \nDrew Petersen\, piano\nStella Chen\, violin\nDechopol Kowintaweewat\, violin\nNatalie Loughran\, viola\nPaul Wiancko\, cello\nVadim Lando\, clarinet\nRoni Gal-Ed\, oboe
URL:https://drewpetersenpiano.com/event/jupiter-symphony-chamber-players-17/
LOCATION:Good Shepherd Church\, 152 W 66 St\, New York\, NY\, United States
END:VEVENT
BEGIN:VEVENT
DTSTART;TZID=America/New_York:20201019T140000
DTEND;TZID=America/New_York:20201019T140000
DTSTAMP:20260421T030120
CREATED:20250723T042735Z
LAST-MODIFIED:20250723T042735Z
UID:899-1603116000-1603116000@drewpetersenpiano.com
SUMMARY:Jupiter Symphony Chamber Players
DESCRIPTION:Program\nRandall Thompson – Suite for Oboe/Clarinet/Viola\nMarion Bauer – Concertino\, Op. 32b (oboe/clarinet/string quartet)\nCharles Griffes – 2 Sketches on Indian Themes (string quartet)\nHoward Hanson – Concerto da Camera in C minor\, Op. 7 (piano/string quartet)\nCharles Wakefield Cadman – Piano Trio in D major\, Op. 56 \n—————— \nDrew Petersen\, piano\nStella Chen\, violin\nDechopol Kowintaweewat\, violin\nNatalie Loughran\, viola\nPaul Wiancko\, cello\nVadim Lando\, clarinet\nRoni Gal-Ed\, oboe
URL:https://drewpetersenpiano.com/event/jupiter-symphony-chamber-players-16/
LOCATION:Good Shepherd Church\, 152 W 66 St\, New York\, NY\, United States
END:VEVENT
BEGIN:VEVENT
DTSTART;TZID=America/New_York:20200914T193000
DTEND;TZID=America/New_York:20200914T193000
DTSTAMP:20260421T030120
CREATED:20250723T042539Z
LAST-MODIFIED:20250723T042539Z
UID:897-1600111800-1600111800@drewpetersenpiano.com
SUMMARY:Jupiter Symphony Chamber Players
DESCRIPTION:Program\nDVORAK – Bagatelles\, Op. 47\, for 2 violins\, cello\, and harmonium(piano)\nZEMLINSKY – Trio in D minor for piano\, clarinet\, and cello\nBRAHMS – Trio in B major for piano\, violin\, and cello \n—————— \nDrew Petersen – piano\nStefan Jackiw – violin\nAbigail Kralik – violin\nVadim Lando – clarinet\nChristine Lamprea – cello
URL:https://drewpetersenpiano.com/event/jupiter-symphony-chamber-players-15/
LOCATION:Good Shepherd Church\, 152 W 66 St\, New York\, NY\, United States
END:VEVENT
BEGIN:VEVENT
DTSTART;TZID=America/New_York:20200914T140000
DTEND;TZID=America/New_York:20200914T140000
DTSTAMP:20260421T030120
CREATED:20250723T042256Z
LAST-MODIFIED:20250723T042256Z
UID:895-1600092000-1600092000@drewpetersenpiano.com
SUMMARY:Jupiter Symphony Chamber Players
DESCRIPTION:Program\nDVORAK – Bagatelles\, Op. 47\, for 2 violins\, cello\, and harmonium(piano)\nZEMLINSKY – Trio in D minor for piano\, clarinet\, and cello\nBRAHMS – Trio in B major for piano\, violin\, and cello \n—————— \nDrew Petersen – piano \nStefan Jackiw – violin \nAbigail Kralik – violin \nVadim Lando – clarinet \nChristine Lamprea – cello
URL:https://drewpetersenpiano.com/event/jupiter-symphony-chamber-players-14/
LOCATION:Good Shepherd Church\, 152 W 66 St\, New York\, NY\, United States
END:VEVENT
BEGIN:VEVENT
DTSTART;TZID=America/Chicago:20200815T193000
DTEND;TZID=America/Chicago:20200815T193000
DTSTAMP:20260421T030120
CREATED:20250723T041910Z
LAST-MODIFIED:20250723T042034Z
UID:890-1597519800-1597519800@drewpetersenpiano.com
SUMMARY:CANCELED - Solo Recital\, Salon Piano Series
DESCRIPTION:Program\nBACH –  Partita in G major\, BWV 829\nSCHUBERT – Wandererfantasie\, D. 760\nCHOPIN – Barcarolle\, Op. 60\nGRANADOS – Valses Poeticos\nBARBER – Sonata\, Op. 26
URL:https://drewpetersenpiano.com/event/solo-recital-salon-piano-series/
LOCATION:Farley’s House of Pianos\, 6522 Seybold Road\, Madison\, WI\, United States
END:VEVENT
BEGIN:VEVENT
DTSTART;TZID=America/New_York:20200718T190000
DTEND;TZID=America/New_York:20200718T190000
DTSTAMP:20260421T030120
CREATED:20250723T041803Z
LAST-MODIFIED:20250723T041803Z
UID:888-1595098800-1595098800@drewpetersenpiano.com
SUMMARY:Taconic Music Festival
DESCRIPTION:Program\nSCHUMANN – Piano Quintet in E-flat major\, Op. 44\nDrew Petersen\, piano; The Indianapolis String Quartet: Zachary DePue\, violin; Joana Genova\, violin; Michael Strauss\, viola; Austin Huntington\, cello
URL:https://drewpetersenpiano.com/event/taconic-music-festival-2/
LOCATION:Riley Center for the Arts\, Burr and Burton Academy\, 143 Seminary Avenue\, Manchester\, VT\, United States
END:VEVENT
BEGIN:VEVENT
DTSTART;TZID=America/New_York:20200711T190000
DTEND;TZID=America/New_York:20200711T190000
DTSTAMP:20260421T030120
CREATED:20250723T041642Z
LAST-MODIFIED:20250723T041642Z
UID:885-1594494000-1594494000@drewpetersenpiano.com
SUMMARY:Taconic Music Festival
DESCRIPTION:Program\nBEETHOVEN – Piano Trio No. 5 in D major\, Op. 70\, No. 1\nJoana Genova\, violin; Nathaniel Parke\, cello; Drew Petersen\, piano \nPIAZZOLLA – The Four Seasons of Buenos Aires\nJoana Genova\, violin; Ariel Rudiakov\, viola; Natheniel Parke\, cello; Steven Moran\, double bass; Drew Petersen\, piano
URL:https://drewpetersenpiano.com/event/taconic-music-festival/
LOCATION:Riley Center for the Arts\, Burr and Burton Academy\, 143 Seminary Avenue\, Manchester\, VT\, United States
END:VEVENT
BEGIN:VEVENT
DTSTART;TZID=America/New_York:20200518T193000
DTEND;TZID=America/New_York:20200518T193000
DTSTAMP:20260421T030120
CREATED:20250723T041347Z
LAST-MODIFIED:20250723T041359Z
UID:882-1589830200-1589830200@drewpetersenpiano.com
SUMMARY:CANCELED - Jupiter Symphony Chamber Players
DESCRIPTION:Program\nDVORAK – Piano Quintet No. 2 in A major\, op. 81\nHannah Tarley\, violin; Lisa Shihoten\, violin; Luosha Fang\, viola; Christine Lamprea\, cello
URL:https://drewpetersenpiano.com/event/jupiter-symphony-chamber-players-13/
LOCATION:Good Shepherd Church\, 152 W 66 St\, New York\, NY\, United States
END:VEVENT
BEGIN:VEVENT
DTSTART;TZID=America/New_York:20200518T140000
DTEND;TZID=America/New_York:20200518T140000
DTSTAMP:20260421T030120
CREATED:20250723T041148Z
LAST-MODIFIED:20250723T041159Z
UID:879-1589810400-1589810400@drewpetersenpiano.com
SUMMARY:CANCELED - Jupiter Symphony Chamber Players
DESCRIPTION:Program\nDVORAK – Piano Quintet No. 2 in A major\, op. 81\nHannah Tarley\, violin; Lisa Shihoten\, violin; Luosha Fang\, viola; Christine Lamprea\, cello
URL:https://drewpetersenpiano.com/event/jupiter-symphony-chamber-players-12/
LOCATION:Good Shepherd Church\, 152 W 66 St\, New York\, NY\, United States
END:VEVENT
BEGIN:VEVENT
DTSTART;TZID=America/New_York:20200425T193000
DTEND;TZID=America/New_York:20200425T193000
DTSTAMP:20260421T030120
CREATED:20250723T041018Z
LAST-MODIFIED:20250723T041034Z
UID:875-1587843000-1587843000@drewpetersenpiano.com
SUMMARY:CANCELED - Tchaikovsky with Columbus Phil
DESCRIPTION:Program\nTCHAIKOVSKY – Piano Concerto No. 1 in B-flat minor\, op. 23\nDavid Bowden\, conductor
URL:https://drewpetersenpiano.com/event/tchaikovsky-with-columbus-phil/
LOCATION:Columbus North Erne Auditorium\, 1400 25th St\, Columbus\, IN\, United States
END:VEVENT
BEGIN:VEVENT
DTSTART;TZID=America/New_York:20200410T150000
DTEND;TZID=America/New_York:20200410T150000
DTSTAMP:20260421T030120
CREATED:20250723T040801Z
LAST-MODIFIED:20250723T040818Z
UID:871-1586530800-1586530800@drewpetersenpiano.com
SUMMARY:CANCELED - Solo Recital\, Savannah Music Festival
DESCRIPTION:Program\nBACH – Partita in G major\, BWV 829\nSCHUBERT – Wandererfantasie\, D. 760\nCHOPIN – Barcarolle\, Op. 60\nGRANADOS – Valses Poeticos\nBARBER – Sonata\, Op. 26
URL:https://drewpetersenpiano.com/event/solo-recital-savannah-music-festival/
LOCATION:Trinity United Methodist Church\, 225 W President St\, Savannah\, GA\, United States
END:VEVENT
BEGIN:VEVENT
DTSTART;TZID=America/New_York:20200305T200000
DTEND;TZID=America/New_York:20200305T200000
DTSTAMP:20260421T030120
CREATED:20250723T035833Z
LAST-MODIFIED:20250723T035833Z
UID:868-1583438400-1583438400@drewpetersenpiano.com
SUMMARY:Recital with Indianapolis String Quartet
DESCRIPTION:Program\nSCHUMANN – Piano Quintet in E-flat major\, op. 44
URL:https://drewpetersenpiano.com/event/recital-with-indianapolis-string-quartet-2/
LOCATION:Weill Recital Hall at Carnegie Hall\, 154 W 57th St\, New York\, NY\, United States
END:VEVENT
BEGIN:VEVENT
DTSTART;TZID=America/New_York:20200203T193000
DTEND;TZID=America/New_York:20200203T193000
DTSTAMP:20260421T030120
CREATED:20250723T035604Z
LAST-MODIFIED:20250723T035604Z
UID:866-1580758200-1580758200@drewpetersenpiano.com
SUMMARY:Jupiter Symphony Chamber Players
DESCRIPTION:Program\nSergei Rachmaninoff: Trio élégiaque No. 1 in G minor\nAlexander Grechaninov: Trio No. 1 in C minor\, op. 38\nSooBeen Lee\, violin; Timotheos Petrin\, cello
URL:https://drewpetersenpiano.com/event/jupiter-symphony-chamber-players-11/
LOCATION:Good Shepherd Church\, 152 W 66 St\, New York\, NY\, United States
END:VEVENT
BEGIN:VEVENT
DTSTART;TZID=America/New_York:20200203T140000
DTEND;TZID=America/New_York:20200203T140000
DTSTAMP:20260421T030120
CREATED:20250723T035503Z
LAST-MODIFIED:20250723T035503Z
UID:864-1580738400-1580738400@drewpetersenpiano.com
SUMMARY:Jupiter Symphony Chamber Players
DESCRIPTION:Program\nSergei Rachmaninoff – Trio élégiaque No. 1 in G minor\nAlexander Grechaninov – Trio No. 1 in C minor\, Op. 38 \nSooBeen Lee\, violin; Timotheos Petrin\, cello
URL:https://drewpetersenpiano.com/event/jupiter-symphony-chamber-players-10/
LOCATION:Good Shepherd Church\, 152 W 66 St\, New York\, NY\, United States
END:VEVENT
BEGIN:VEVENT
DTSTART;TZID=America/New_York:20200109T180000
DTEND;TZID=America/New_York:20200109T180000
DTSTAMP:20260421T030120
CREATED:20250723T035000Z
LAST-MODIFIED:20250723T035000Z
UID:862-1578592800-1578592800@drewpetersenpiano.com
SUMMARY:Recital with violist Toby Appel
DESCRIPTION:Program\nJOSEPH JOACHIM – Hebrew Melodies\, op. 9\nROBERT SCHUMANN – Märchenbilder\, op. 113\nJAMES FRISKIN – Elegy\nDMITRI SHOSTAKOVICH – Sonata\, op. 147\nREBECCA CLARKE – Morpheus
URL:https://drewpetersenpiano.com/event/recital-with-violist-toby-appel/
LOCATION:Guarneri Hall\, 11 East Adams St\, 3rd Floor\, Chicago\, IL\, United States
END:VEVENT
BEGIN:VEVENT
DTSTART;TZID=America/Chicago:20200107T183000
DTEND;TZID=America/Chicago:20200107T183000
DTSTAMP:20260421T030120
CREATED:20250723T034701Z
LAST-MODIFIED:20250723T034701Z
UID:859-1578421800-1578421800@drewpetersenpiano.com
SUMMARY:Solo Recital\, Guarneri Hall
DESCRIPTION:Program\nCHOPIN – Barcarolle\, Op. 60\nGRANADOS – Valses Poeticos\nSCHUBERT – Wandererfantastie\, D. 760
URL:https://drewpetersenpiano.com/event/solo-recital-guarneri-hall/
LOCATION:Guarneri Hall\, 11 East Adams St\, 3rd Floor\, Chicago\, IL\, United States
END:VEVENT
BEGIN:VEVENT
DTSTART;TZID=America/Chicago:20191119T200000
DTEND;TZID=America/Chicago:20191119T200000
DTSTAMP:20260421T030120
CREATED:20250723T034457Z
LAST-MODIFIED:20250723T034457Z
UID:856-1574193600-1574193600@drewpetersenpiano.com
SUMMARY:Solo Recital - Matinee Musicale
DESCRIPTION:Program\nBACH – Partita No. 5 in G major\, BWV 829\nSCHUBERT – Wandererfantasie in C major\, Op. 15\, D. 760\nCHOPIN – Bararolle in F-sharp major\, Op. 60\nGRANADOS – Ochos Valses Poeticos\nBARBER – Piano Sonata\, Op. 26
URL:https://drewpetersenpiano.com/event/solo-recital-matinee-musicale/
LOCATION:The College of Saint Scholastica\, Mitchell Auditorium\, 1200 Kenwood Ave\, Duluth\, MN\, United States
END:VEVENT
BEGIN:VEVENT
DTSTART;TZID=America/New_York:20191116T200000
DTEND;TZID=America/New_York:20191116T200000
DTSTAMP:20260421T030120
CREATED:20250723T034304Z
LAST-MODIFIED:20250723T034304Z
UID:854-1573934400-1573934400@drewpetersenpiano.com
SUMMARY:Liszt with Buffalo Philharmonic
DESCRIPTION:Program\nLISZT – Piano Concerto No. 1
URL:https://drewpetersenpiano.com/event/liszt-with-buffalo-philharmonic-2/
LOCATION:Kleinhans Music Hall\, 3 Symphony Circle Drive\, Buffalo\, NY\, United States
END:VEVENT
BEGIN:VEVENT
DTSTART;TZID=America/New_York:20191115T103000
DTEND;TZID=America/New_York:20191115T103000
DTSTAMP:20260421T030120
CREATED:20250723T034150Z
LAST-MODIFIED:20250723T034150Z
UID:851-1573813800-1573813800@drewpetersenpiano.com
SUMMARY:Liszt with Buffalo Philharmonic
DESCRIPTION:Program\nLISZT – Piano Concerto No. 1\nMaximiano Valdes\, conductor
URL:https://drewpetersenpiano.com/event/liszt-with-buffalo-philharmonic/
LOCATION:Kleinhans Music Hall\, 3 Symphony Circle Drive\, Buffalo\, NY\, United States
END:VEVENT
BEGIN:VEVENT
DTSTART;TZID=America/New_York:20191110T140000
DTEND;TZID=America/New_York:20191110T140000
DTSTAMP:20260421T030120
CREATED:20250723T033950Z
LAST-MODIFIED:20250723T033950Z
UID:849-1573394400-1573394400@drewpetersenpiano.com
SUMMARY:Tchaikovsky with Allentown Symphony Orchestra
DESCRIPTION:Program\n“Trepak” from The Nutcracker \nSelections from Swan Lake\nfeaturing dancers from Repertory Dance Theatre \nPiano Concerto No. 1\nwith piano soloist DREW PETERSEN \nSymphony No. 6\, “Pathétique” \nFinale from 1812 Overture
URL:https://drewpetersenpiano.com/event/tchaikovsky-with-allentown-symphony-orchestra-2/
LOCATION:Miller Symphony Hall\, 23 N. 6th St\, Allentown\, PA\, United States
END:VEVENT
BEGIN:VEVENT
DTSTART;TZID=America/New_York:20191109T193000
DTEND;TZID=America/New_York:20191109T193000
DTSTAMP:20260421T030120
CREATED:20250723T033810Z
LAST-MODIFIED:20250723T033810Z
UID:846-1573327800-1573327800@drewpetersenpiano.com
SUMMARY:Tchaikovsky with Allentown Symphony Orchestra
DESCRIPTION:Program\n“Trepak” from The Nutcracker \nSelections from Swan Lake (featuring dancers from RDT) \nPiano Concerto No. 1\nDrew Petersen\, Piano \nSymphony No. 6\, “Pathétique” \nFinale from 1812 Overture
URL:https://drewpetersenpiano.com/event/tchaikovsky-with-allentown-symphony-orchestra/
LOCATION:Miller Symphony Hall\, 23 N. 6th St\, Allentown\, PA\, United States
END:VEVENT
BEGIN:VEVENT
DTSTART;TZID=America/New_York:20191031T160000
DTEND;TZID=America/New_York:20191031T160000
DTSTAMP:20260421T030120
CREATED:20250723T033531Z
LAST-MODIFIED:20250723T033531Z
UID:843-1572537600-1572537600@drewpetersenpiano.com
SUMMARY:Masterclass at Williams College
DESCRIPTION:Program\nPianist Drew Petersen coaches talented Williams College piano students in a master class. This event is free and open to the public.
URL:https://drewpetersenpiano.com/event/masterclass-at-williams-college/
LOCATION:Brooks-Rogers Recital Hall\, 880 Main Street\, Williamstown\, MA\, United States
END:VEVENT
BEGIN:VEVENT
DTSTART;TZID=America/New_York:20191030T193000
DTEND;TZID=America/New_York:20191030T193000
DTSTAMP:20260421T030120
CREATED:20250723T033312Z
LAST-MODIFIED:20250723T033312Z
UID:840-1572463800-1572463800@drewpetersenpiano.com
SUMMARY:Solo Recital\, Williams College
DESCRIPTION:Program\nBACH – Partita in G major\, BWV 829\nSCHUBERT – Wandererfantasie\, D. 760\nCHOPIN – Barcarolle\, Op. 60\nGRANADOS – Valses Poeticos\nBARBER – Piano Sonata\, Op. 26
URL:https://drewpetersenpiano.com/event/solo-recital-williams-college/
LOCATION:Brooks-Rogers Recital Hall\, Williams College\, 54 Chapin Hall Drive\, Williamstown\, MA\, United States
END:VEVENT
BEGIN:VEVENT
DTSTART;TZID=America/New_York:20191019T140000
DTEND;TZID=America/New_York:20191019T140000
DTSTAMP:20260421T030120
CREATED:20250723T033101Z
LAST-MODIFIED:20250723T033101Z
UID:837-1571493600-1571493600@drewpetersenpiano.com
SUMMARY:Kennedy Center Terrace Theater
DESCRIPTION:Program\nBACH – Partita in G major\, BWV 829\nSCHUBERT – Wandererfantasie\, D. 760\nCHOPIN – Barcarolle\, Op. 60\nGRANADOS – Valses Poeticos\nBARBER – Piano Sonata\, Op. 26
URL:https://drewpetersenpiano.com/event/kennedy-center-terrace-theater/
LOCATION:Kennedy Center Terrace Theater\, 2700 F St NW\, Washington\, DC\, United States
END:VEVENT
BEGIN:VEVENT
DTSTART;TZID=America/Chicago:20191017T193000
DTEND;TZID=America/Chicago:20191017T193000
DTSTAMP:20260421T030120
CREATED:20250723T032900Z
LAST-MODIFIED:20250723T032900Z
UID:834-1571340600-1571340600@drewpetersenpiano.com
SUMMARY:Liszt with Waco Symphony
DESCRIPTION:Program\nLISZT – Piano Concerto No. 1\nSTRAUSS – Ein Heldenleben\nStephen Heyde\, conductor
URL:https://drewpetersenpiano.com/event/liszt-with-waco-symphony/
LOCATION:Waco Hall\, Baylor University\, 624 Speight Ave\, Waco\, TX\, United States
END:VEVENT
BEGIN:VEVENT
DTSTART;TZID=America/New_York:20190929T143000
DTEND;TZID=America/New_York:20190929T143000
DTSTAMP:20260421T030120
CREATED:20250723T032650Z
LAST-MODIFIED:20250723T032650Z
UID:832-1569767400-1569767400@drewpetersenpiano.com
SUMMARY:Beethoven with Sarasota Orchestra
DESCRIPTION:Program\nROSSINI – Overture to L’Italiana in Algeri\nBEETHOVEN – Piano Concerto No. 3\nBEETHOVEN – Symphony No. 5\nMarcelo Lehninger\, conductor
URL:https://drewpetersenpiano.com/event/beethoven-with-sarasota-orchestra-2/
LOCATION:Sarasota Opera House\, 61 N Pineapple Ave\, Sarasota\, FL\, United States
END:VEVENT
BEGIN:VEVENT
DTSTART;TZID=America/New_York:20190928T193000
DTEND;TZID=America/New_York:20190928T193000
DTSTAMP:20260421T030120
CREATED:20250723T032438Z
LAST-MODIFIED:20250723T032438Z
UID:829-1569699000-1569699000@drewpetersenpiano.com
SUMMARY:Beethoven with Sarasota Orchestra
DESCRIPTION:Program\nROSSINI – Overture to L’Italiana in Algeri\nBEETHOVEN – Piano Concerto No. 3\nBEETHOVEN – Symphony No. 5\nMarcelo Lehninger\, conductor
URL:https://drewpetersenpiano.com/event/beethoven-with-sarasota-orchestra/
LOCATION:Sarasota Opera House\, 61 N Pineapple Ave\, Sarasota\, FL\, United States
END:VEVENT
BEGIN:VEVENT
DTSTART;TZID=America/New_York:20190920T190000
DTEND;TZID=America/New_York:20190920T190000
DTSTAMP:20260421T030120
CREATED:20250723T031635Z
LAST-MODIFIED:20250723T031635Z
UID:827-1569006000-1569006000@drewpetersenpiano.com
SUMMARY:Indiana Music Teachers' Conference Solo Recital
DESCRIPTION:Program\nBACH – Partita in G major\, BWV 829\nSCHUBERT – Fantasia in C major\, D. 760 “Wandererfantasie”\nCHOPIN – Barcarolle\, Op. 60\nGRANADOS – Ochos Valses Poeticos\nBARBER – Piano Sonata\, Op. 26
URL:https://drewpetersenpiano.com/event/indiana-music-teachers-conference-solo-recital/
LOCATION:Christel DeHaan Fine Arts Center\, 1400 East Hanna Ave\, Indianapolis\, IN\, United States
END:VEVENT
BEGIN:VEVENT
DTSTART;TZID=America/Chicago:20190908T150000
DTEND;TZID=America/Chicago:20190908T150000
DTSTAMP:20260421T030120
CREATED:20250723T031415Z
LAST-MODIFIED:20250723T031415Z
UID:824-1567954800-1567954800@drewpetersenpiano.com
SUMMARY:Mozart with Fort Smith Symphony
DESCRIPTION:Program\nWAGNER – Siegfried Idyll\nMOZART – Piano Concerto No. 20\nBEETHOVEN – Symphony No. 7\nJohn Jeter\, conductor
URL:https://drewpetersenpiano.com/event/mozart-with-fort-smith-symphony/
LOCATION:ArcBest Corporation Performing Arts Center\, 55 S 7th St\, Fort Smith\, AZ\, United States
END:VEVENT
END:VCALENDAR