BEGIN:VCALENDAR
VERSION:2.0
PRODID:-//Drew Petersen - Pianist - ECPv6.15.20//NONSGML v1.0//EN
CALSCALE:GREGORIAN
METHOD:PUBLISH
X-WR-CALNAME:Drew Petersen - Pianist
X-ORIGINAL-URL:https://drewpetersenpiano.com
X-WR-CALDESC:Events for Drew Petersen - Pianist
REFRESH-INTERVAL;VALUE=DURATION:PT1H
X-Robots-Tag:noindex
X-PUBLISHED-TTL:PT1H
BEGIN:VTIMEZONE
TZID:America/New_York
BEGIN:DAYLIGHT
TZOFFSETFROM:-0500
TZOFFSETTO:-0400
TZNAME:EDT
DTSTART:20240310T070000
END:DAYLIGHT
BEGIN:STANDARD
TZOFFSETFROM:-0400
TZOFFSETTO:-0500
TZNAME:EST
DTSTART:20241103T060000
END:STANDARD
BEGIN:DAYLIGHT
TZOFFSETFROM:-0500
TZOFFSETTO:-0400
TZNAME:EDT
DTSTART:20250309T070000
END:DAYLIGHT
BEGIN:STANDARD
TZOFFSETFROM:-0400
TZOFFSETTO:-0500
TZNAME:EST
DTSTART:20251102T060000
END:STANDARD
BEGIN:DAYLIGHT
TZOFFSETFROM:-0500
TZOFFSETTO:-0400
TZNAME:EDT
DTSTART:20260308T070000
END:DAYLIGHT
BEGIN:STANDARD
TZOFFSETFROM:-0400
TZOFFSETTO:-0500
TZNAME:EST
DTSTART:20261101T060000
END:STANDARD
END:VTIMEZONE
BEGIN:VEVENT
DTSTART;TZID=America/New_York:20250908T140000
DTEND;TZID=America/New_York:20250908T140000
DTSTAMP:20260420T113422
CREATED:20250908T150724Z
LAST-MODIFIED:20250908T150906Z
UID:1970-1757340000-1757340000@drewpetersenpiano.com
SUMMARY:Jupiter Symphony Chamber Players
DESCRIPTION:Program\nC.M. Loeffler – “L’Etang” (The Pond) for oboe\, viola\, piano \nRossini – “La Pesca” (Fishing) for flute\, clarinet\, piano \nReinecke – Flute Sonata in E major “Undine” \nSchubert – Piano Quintet in A major “Trout” \nwith \nNjioma Grevious\, violin \nPaul Laraia\, viola \nMihai Marica\, cello \nGabriel Polinsky\, double bass \nSooyung Kim\, flute \nRoni Gal-Ed\, oboe \nVadim Lando\, clarinet
URL:https://drewpetersenpiano.com/event/jupiter-symphony-chamber-players-45/
LOCATION:Good Shepherd Church\, 152 W 66 St\, New York\, NY\, United States
END:VEVENT
BEGIN:VEVENT
DTSTART;TZID=America/New_York:20250908T193000
DTEND;TZID=America/New_York:20250908T213000
DTSTAMP:20260420T113422
CREATED:20250908T151048Z
LAST-MODIFIED:20250908T151224Z
UID:1974-1757359800-1757367000@drewpetersenpiano.com
SUMMARY:Jupiter Symphony Chamber Players
DESCRIPTION:Program\nC.M. Loeffler – “L’Etang” (The Pond) for oboe\, viola\, piano \nRossini – “La Pesca” (Fishing) for flute\, clarinet\, piano \nReinecke – Flute Sonata in E major “Undine” \nSchubert – Piano Quintet in A major “Trout” \nwith \nNjioma Grevious\, violin \nPaul Laraia\, viola \nMihai Marica\, cello \nGabriel Polinsky\, double bass \nSooyung Kim\, flute \nRoni Gal-Ed\, oboe \nVadim Lando\, clarinet
URL:https://drewpetersenpiano.com/event/jupiter-symphony-chamber-players-46/
LOCATION:Good Shepherd Church\, 152 W 66 St\, New York\, NY\, United States
END:VEVENT
BEGIN:VEVENT
DTSTART;TZID=America/New_York:20250921T170000
DTEND;TZID=America/New_York:20250921T190000
DTSTAMP:20260420T113422
CREATED:20250908T153324Z
LAST-MODIFIED:20250908T153746Z
UID:1978-1758474000-1758481200@drewpetersenpiano.com
SUMMARY:Solo Recital - Steeple Concerts
DESCRIPTION:Program\nMOZART – Sonata in C major\, KV 330 \nWANG JIE – Memories of That First Summer \nJOHN ADAMS – Phrygian Gates \n— \nLISZT – 3 Etudes de Concert\, S. 144 \nIl Lamento \nLa Leggierezza \nUn Sospiro \nLISZT – Réminiscences de Don Juan\, S. 418
URL:https://drewpetersenpiano.com/event/solo-recital-steeple-concerts/
LOCATION:Steeple Concerts at St. Paul’s\, 414 E Broad St\, Westfield\, NJ\, 07090\, United States
END:VEVENT
END:VCALENDAR