BEGIN:VCALENDAR
VERSION:2.0
PRODID:-//Drew Petersen - Pianist - ECPv6.15.20//NONSGML v1.0//EN
CALSCALE:GREGORIAN
METHOD:PUBLISH
X-WR-CALNAME:Drew Petersen - Pianist
X-ORIGINAL-URL:https://drewpetersenpiano.com
X-WR-CALDESC:Events for Drew Petersen - Pianist
REFRESH-INTERVAL;VALUE=DURATION:PT1H
X-Robots-Tag:noindex
X-PUBLISHED-TTL:PT1H
BEGIN:VTIMEZONE
TZID:America/New_York
BEGIN:DAYLIGHT
TZOFFSETFROM:-0500
TZOFFSETTO:-0400
TZNAME:EDT
DTSTART:20240310T070000
END:DAYLIGHT
BEGIN:STANDARD
TZOFFSETFROM:-0400
TZOFFSETTO:-0500
TZNAME:EST
DTSTART:20241103T060000
END:STANDARD
BEGIN:DAYLIGHT
TZOFFSETFROM:-0500
TZOFFSETTO:-0400
TZNAME:EDT
DTSTART:20250309T070000
END:DAYLIGHT
BEGIN:STANDARD
TZOFFSETFROM:-0400
TZOFFSETTO:-0500
TZNAME:EST
DTSTART:20251102T060000
END:STANDARD
BEGIN:DAYLIGHT
TZOFFSETFROM:-0500
TZOFFSETTO:-0400
TZNAME:EDT
DTSTART:20260308T070000
END:DAYLIGHT
BEGIN:STANDARD
TZOFFSETFROM:-0400
TZOFFSETTO:-0500
TZNAME:EST
DTSTART:20261101T060000
END:STANDARD
END:VTIMEZONE
BEGIN:VEVENT
DTSTART;TZID=America/New_York:20251103T140000
DTEND;TZID=America/New_York:20251103T140000
DTSTAMP:20260420T081722
CREATED:20250908T180956Z
LAST-MODIFIED:20250908T180956Z
UID:1989-1762178400-1762178400@drewpetersenpiano.com
SUMMARY:Jupiter Symphony Chamber Players
DESCRIPTION:Program\nFrederick Delius – Sonata No. 2 for Violin and Piano\nC.V. Stanford – Piano Trio No. 3 in A minor\, op. 158\nRalph Vaughan Williams – Quintet in D major for Clarinet\, Horn\, Violin\, Cello\, Piano \nwith \nStefan Milenkovich\, violin\nMaya Kilburn\, violin\nTorron Pfeffer\, viola\nGaeun Kim\, cello\nRoni Gal-Ed\, oboe\nVadim Lando\, clarinet
URL:https://drewpetersenpiano.com/event/jupiter-symphony-chamber-players-47/
LOCATION:Good Shepherd Church\, 152 W 66 St\, New York\, NY\, United States
END:VEVENT
BEGIN:VEVENT
DTSTART;TZID=America/New_York:20251103T193000
DTEND;TZID=America/New_York:20251103T193000
DTSTAMP:20260420T081722
CREATED:20250908T181213Z
LAST-MODIFIED:20250908T181213Z
UID:1991-1762198200-1762198200@drewpetersenpiano.com
SUMMARY:Jupiter Symphony Chamber Players
DESCRIPTION:Program\nFrederick Delius – Sonata No. 2 for Violin and Piano\nC.V. Stanford – Piano Trio No. 3 in A minor\, op. 158\nRalph Vaughan Williams – Quintet in D major for Clarinet\, Horn\, Violin\, Cello\, Piano \nwith \nStefan Milenkovich\, violin\nMaya Kilburn\, violin\nTorron Pfeffer\, viola\nGaeun Kim\, cello\nRoni Gal-Ed\, oboe\nVadim Lando\, clarinet
URL:https://drewpetersenpiano.com/event/jupiter-symphony-chamber-players-48/
LOCATION:Good Shepherd Church\, 152 W 66 St\, New York\, NY\, United States
END:VEVENT
END:VCALENDAR