BEGIN:VCALENDAR
VERSION:2.0
PRODID:-//Drew Petersen - Pianist - ECPv6.15.20//NONSGML v1.0//EN
CALSCALE:GREGORIAN
METHOD:PUBLISH
X-ORIGINAL-URL:https://drewpetersenpiano.com
X-WR-CALDESC:Events for Drew Petersen - Pianist
REFRESH-INTERVAL;VALUE=DURATION:PT1H
X-Robots-Tag:noindex
X-PUBLISHED-TTL:PT1H
BEGIN:VTIMEZONE
TZID:America/Los_Angeles
BEGIN:DAYLIGHT
TZOFFSETFROM:-0800
TZOFFSETTO:-0700
TZNAME:PDT
DTSTART:20250309T100000
END:DAYLIGHT
BEGIN:STANDARD
TZOFFSETFROM:-0700
TZOFFSETTO:-0800
TZNAME:PST
DTSTART:20251102T090000
END:STANDARD
BEGIN:DAYLIGHT
TZOFFSETFROM:-0800
TZOFFSETTO:-0700
TZNAME:PDT
DTSTART:20260308T100000
END:DAYLIGHT
BEGIN:STANDARD
TZOFFSETFROM:-0700
TZOFFSETTO:-0800
TZNAME:PST
DTSTART:20261101T090000
END:STANDARD
BEGIN:DAYLIGHT
TZOFFSETFROM:-0800
TZOFFSETTO:-0700
TZNAME:PDT
DTSTART:20270314T100000
END:DAYLIGHT
BEGIN:STANDARD
TZOFFSETFROM:-0700
TZOFFSETTO:-0800
TZNAME:PST
DTSTART:20271107T090000
END:STANDARD
END:VTIMEZONE
BEGIN:VEVENT
DTSTART;TZID=America/Los_Angeles:20260129T193000
DTEND;TZID=America/Los_Angeles:20260129T193000
DTSTAMP:20260420T051244
CREATED:20250908T181609Z
LAST-MODIFIED:20250908T181609Z
UID:1993-1769715000-1769715000@drewpetersenpiano.com
SUMMARY:Solo Recital - ECHO Chamber Music Series
DESCRIPTION:Program\nMOZART – Sonata in C major\, KV 330\nWANG JIE – Memories of That First Summer\nJOHN ADAMS – Phrygian Gates \n—— \nLISZT – 3 Etudes de Concert\, S. 144\nIl Lamento\nLa Leggierezza\nUn Sospiro\nLISZT – Réminiscences de Don Juan
URL:https://drewpetersenpiano.com/event/solo-recital-echo-chamber-music-series/
LOCATION:Cuyamaca College\, Samuel Ciccati Performing Arts Center\, 900 Rancho San Diego Pkwy\, El Cajon\, CA\, United States
END:VEVENT
END:VCALENDAR